BEGIN:VCALENDAR
VERSION:2.0
PRODID:-//American Federation of Musicians of the United States and Canada - ECPv6.15.20//NONSGML v1.0//EN
CALSCALE:GREGORIAN
METHOD:PUBLISH
X-ORIGINAL-URL:https://grandrapidsmusicians.org
X-WR-CALDESC:Events for American Federation of Musicians of the United States and Canada
REFRESH-INTERVAL;VALUE=DURATION:PT1H
X-Robots-Tag:noindex
X-PUBLISHED-TTL:PT1H
BEGIN:VTIMEZONE
TZID:UTC
BEGIN:STANDARD
TZOFFSETFROM:+0000
TZOFFSETTO:+0000
TZNAME:UTC
DTSTART:20240101T000000
END:STANDARD
END:VTIMEZONE
BEGIN:VEVENT
DTSTART;TZID=UTC:20250920T193000
DTEND;TZID=UTC:20250920T220000
DTSTAMP:20260422T194135
CREATED:20250914T185608Z
LAST-MODIFIED:20250914T185615Z
UID:1016-1758396600-1758405600@grandrapidsmusicians.org
SUMMARY:Grand Rapids Symphony "Mariachi Cobre"
DESCRIPTION:Founded in 1971\, Mariachi Cobre has been the mariachi ambassador to the world\, performing for millions of visitors at Disney World’s Epcot Center in Orlando\, Florida. They have also performed with nearly 50 symphony orchestras across the U. S. and Mexico\, and will be led in this concert by GRS Principal Pops Conductor Bob Bernhardt.
URL:https://grandrapidsmusicians.org/event/grand-rapids-symphony-mariachi-cobre/
LOCATION:DeVos Performance Hall\, 303 Monroe Ave NW\, Grand Rapids\, MI\, 49503\, United States
END:VEVENT
END:VCALENDAR