BEGIN:VCALENDAR
VERSION:2.0
PRODID:-//American Federation of Musicians of the United States and Canada - ECPv6.15.20//NONSGML v1.0//EN
CALSCALE:GREGORIAN
METHOD:PUBLISH
X-ORIGINAL-URL:https://grandrapidsmusicians.org
X-WR-CALDESC:Events for American Federation of Musicians of the United States and Canada
REFRESH-INTERVAL;VALUE=DURATION:PT1H
X-Robots-Tag:noindex
X-PUBLISHED-TTL:PT1H
BEGIN:VTIMEZONE
TZID:UTC
BEGIN:STANDARD
TZOFFSETFROM:+0000
TZOFFSETTO:+0000
TZNAME:UTC
DTSTART:20240101T000000
END:STANDARD
END:VTIMEZONE
BEGIN:VEVENT
DTSTART;TZID=UTC:20250901T140000
DTEND;TZID=UTC:20250901T170000
DTSTAMP:20260422T163522
CREATED:20250729T213659Z
LAST-MODIFIED:20250729T213702Z
UID:930-1756735200-1756746000@grandrapidsmusicians.org
SUMMARY:The Back Door Blues Band/Labor Day
DESCRIPTION:Co-sponsored by the Music Performance Trust Fund\, the Back Door Blues Band will perform a free concert on Labor Day.
URL:https://grandrapidsmusicians.org/event/the-back-door-blues-band-labor-day/
LOCATION:Alano Club South of Kent County\, 256 Celia Street SW\, Wyoming\, Michigan\, 49548\, United States
ORGANIZER;CN="Alano Club South of Kent County":MAILTO:lezurgal@yahoo.com
END:VEVENT
END:VCALENDAR