BEGIN:VCALENDAR
VERSION:2.0
PRODID:-//American Federation of Musicians of the United States and Canada - ECPv6.15.20//NONSGML v1.0//EN
CALSCALE:GREGORIAN
METHOD:PUBLISH
X-ORIGINAL-URL:https://grandrapidsmusicians.org
X-WR-CALDESC:Events for American Federation of Musicians of the United States and Canada
REFRESH-INTERVAL;VALUE=DURATION:PT1H
X-Robots-Tag:noindex
X-PUBLISHED-TTL:PT1H
BEGIN:VTIMEZONE
TZID:UTC
BEGIN:STANDARD
TZOFFSETFROM:+0000
TZOFFSETTO:+0000
TZNAME:UTC
DTSTART:20240101T000000
END:STANDARD
END:VTIMEZONE
BEGIN:VEVENT
DTSTART;TZID=UTC:20250727T160000
DTEND;TZID=UTC:20250727T170000
DTSTAMP:20260422T093959
CREATED:20250720T025423Z
LAST-MODIFIED:20250720T025429Z
UID:920-1753632000-1753635600@grandrapidsmusicians.org
SUMMARY:"A Summertime Serenade" Jodie White\, horn & Steven McChesney\, piano
DESCRIPTION:Works by Ravel\, Saint-Saëns\, Kapustin and more!
URL:https://grandrapidsmusicians.org/event/a-summertime-serenade-jodie-white-horn-steven-mcchesney-piano/
LOCATION:Saint Ann Catholic Church\, 312 S Main Street\, Bellevue\, Michigan\, 49021\, United States
END:VEVENT
END:VCALENDAR