BEGIN:VCALENDAR
VERSION:2.0
PRODID:-//American Federation of Musicians of the United States and Canada - ECPv6.15.20//NONSGML v1.0//EN
CALSCALE:GREGORIAN
METHOD:PUBLISH
X-WR-CALNAME:American Federation of Musicians of the United States and Canada
X-ORIGINAL-URL:https://grandrapidsmusicians.org
X-WR-CALDESC:Events for American Federation of Musicians of the United States and Canada
REFRESH-INTERVAL;VALUE=DURATION:PT1H
X-Robots-Tag:noindex
X-PUBLISHED-TTL:PT1H
BEGIN:VTIMEZONE
TZID:UTC
BEGIN:STANDARD
TZOFFSETFROM:+0000
TZOFFSETTO:+0000
TZNAME:UTC
DTSTART:20240101T000000
END:STANDARD
END:VTIMEZONE
BEGIN:VEVENT
DTSTART;TZID=UTC:20250717T193000
DTEND;TZID=UTC:20250717T213000
DTSTAMP:20260422T093550
CREATED:20250621T180302Z
LAST-MODIFIED:20250621T180306Z
UID:879-1752780600-1752787800@grandrapidsmusicians.org
SUMMARY:GRS Picnic Pops "Faithfully - The Music of Journey"
DESCRIPTION:The Grand Rapids Symphony will perform stunning orchestral arrangements of Journey’s chart-topping classics.
URL:https://grandrapidsmusicians.org/event/grs-picnic-pops-faithfully-the-music-of-journey/
LOCATION:Secchia Meadows at Millennium Park\, 1415 Maynard Ave SW\, Walker\, Michigan\, 49534\, United States
END:VEVENT
END:VCALENDAR