BEGIN:VCALENDAR
VERSION:2.0
PRODID:-//American Federation of Musicians of the United States and Canada - ECPv6.15.20//NONSGML v1.0//EN
CALSCALE:GREGORIAN
METHOD:PUBLISH
X-ORIGINAL-URL:https://grandrapidsmusicians.org
X-WR-CALDESC:Events for American Federation of Musicians of the United States and Canada
REFRESH-INTERVAL;VALUE=DURATION:PT1H
X-Robots-Tag:noindex
X-PUBLISHED-TTL:PT1H
BEGIN:VTIMEZONE
TZID:UTC
BEGIN:STANDARD
TZOFFSETFROM:+0000
TZOFFSETTO:+0000
TZNAME:UTC
DTSTART:20240101T000000
END:STANDARD
END:VTIMEZONE
BEGIN:VEVENT
DTSTART;TZID=UTC:20250716T200000
DTEND;TZID=UTC:20250716T220000
DTSTAMP:20260422T100637
CREATED:20250621T175625Z
LAST-MODIFIED:20250621T175628Z
UID:875-1752696000-1752703200@grandrapidsmusicians.org
SUMMARY:GRS Picnic Pops "Patriotic Pops"
DESCRIPTION: The Grand Rapids Symphony presents an evening of Americana\, featuring the music and artists who have shaped the country for the last two centuries. A dazzling drone show will illuminate the sky while the Symphony provides the live soundtrack for a magical finale.
URL:https://grandrapidsmusicians.org/event/grs-picnic-pops-patriotic-pops/
LOCATION:Secchia Meadows at Millennium Park\, 1415 Maynard Ave SW\, Walker\, Michigan\, 49534\, United States
END:VEVENT
END:VCALENDAR