BEGIN:VCALENDAR
VERSION:2.0
PRODID:-//American Federation of Musicians of the United States and Canada - ECPv6.15.20//NONSGML v1.0//EN
CALSCALE:GREGORIAN
METHOD:PUBLISH
X-WR-CALNAME:American Federation of Musicians of the United States and Canada
X-ORIGINAL-URL:https://grandrapidsmusicians.org
X-WR-CALDESC:Events for American Federation of Musicians of the United States and Canada
REFRESH-INTERVAL;VALUE=DURATION:PT1H
X-Robots-Tag:noindex
X-PUBLISHED-TTL:PT1H
BEGIN:VTIMEZONE
TZID:UTC
BEGIN:STANDARD
TZOFFSETFROM:+0000
TZOFFSETTO:+0000
TZNAME:UTC
DTSTART:20240101T000000
END:STANDARD
END:VTIMEZONE
BEGIN:VEVENT
DTSTART;TZID=UTC:20250619T110000
DTEND;TZID=UTC:20250619T130000
DTSTAMP:20260422T080412
CREATED:20250529T214414Z
LAST-MODIFIED:20250529T214421Z
UID:855-1750330800-1750338000@grandrapidsmusicians.org
SUMMARY:Krystal Kleer/Juneteenth
DESCRIPTION:A free performance on Juneteenth by the band Krystal Kleer\, sponsored by the Music Performance Trust Fund.
URL:https://grandrapidsmusicians.org/event/krystal-kleer-juneteenth/
LOCATION:Hope Network West Michigan\, 795 36th Street SE\, Grand Rapids\, Michigan\, 49548\, United States
ORGANIZER;CN="Hope Network West Michigan":MAILTO:bselk@hopenetwork.org
END:VEVENT
BEGIN:VEVENT
DTSTART;TZID=UTC:20250619T130000
DTEND;TZID=UTC:20250619T153000
DTSTAMP:20260422T080412
CREATED:20250528T223139Z
LAST-MODIFIED:20250528T223201Z
UID:833-1750338000-1750347000@grandrapidsmusicians.org
SUMMARY:Back Door Blues Band/Juneteenth
DESCRIPTION:A free performance on Juneteenth by the Back Door Blues Band\, sponsored by the Music Performance Trust Fund.
URL:https://grandrapidsmusicians.org/event/back-door-blues-band-juneteenth/
LOCATION:Alano Club of Kent County\, 1020 College Ave NE\, Grand Rapids\, Michigan\, 49503\, United States
END:VEVENT
BEGIN:VEVENT
DTSTART;TZID=UTC:20250619T140000
DTEND;TZID=UTC:20250619T160000
DTSTAMP:20260422T080412
CREATED:20250528T223623Z
LAST-MODIFIED:20250528T223626Z
UID:835-1750341600-1750348800@grandrapidsmusicians.org
SUMMARY:Just Friends/Juneteenth
DESCRIPTION:A free performance on Juneteenth by the R&B band Just Friends\, sponsored by the Music Performance Trust Fund.
URL:https://grandrapidsmusicians.org/event/just-friends-juneteenth-2/
LOCATION:Dégagé\, 139 Sheldon Ave SE\, Grand Rapids\, Michigan\, United States
ORGANIZER;CN="D%C3%A9gag%C3%A9":MAILTO:nelson@degageministries.org
END:VEVENT
BEGIN:VEVENT
DTSTART;TZID=UTC:20250619T140000
DTEND;TZID=UTC:20250619T170000
DTSTAMP:20260422T080412
CREATED:20250529T213840Z
LAST-MODIFIED:20250529T213845Z
UID:851-1750341600-1750352400@grandrapidsmusicians.org
SUMMARY:Just Us Band/Juneteenth
DESCRIPTION:A free performance on Juneteenth by Just Us Band\, sponsored by the Music Performance Trust Fund.
URL:https://grandrapidsmusicians.org/event/just-us-band-juneteenth-2/
LOCATION:Lead Exchange Network\, 865 28th Street SE\, Grand Rapids\, Michigan\, 49508\, United States
ORGANIZER;CN="Lead Exchange Network":MAILTO:lomax@businessexchangeonline.com
END:VEVENT
BEGIN:VEVENT
DTSTART;TZID=UTC:20250619T170000
DTEND;TZID=UTC:20250619T220000
DTSTAMP:20260422T080412
CREATED:20250528T224226Z
LAST-MODIFIED:20250528T225234Z
UID:841-1750352400-1750370400@grandrapidsmusicians.org
SUMMARY:Asamu Johnson & the Associates of the Blues/Juneteenth
DESCRIPTION:A free performance on Juneteenth by Asamu Johnson & the Associates of the Blues\, sponsored by the Music Performance Trust Fund.
URL:https://grandrapidsmusicians.org/event/asamu-johnson-the-associates-of-the-blues-juneteenth/
LOCATION:Chicago Beef Joint\, 822 Ottawa Ave NW\, Grand Rapids\, Michigan\, 49503\, United States
END:VEVENT
BEGIN:VEVENT
DTSTART;TZID=UTC:20250619T180000
DTEND;TZID=UTC:20250619T200000
DTSTAMP:20260422T080412
CREATED:20250528T222619Z
LAST-MODIFIED:20250528T222629Z
UID:831-1750356000-1750363200@grandrapidsmusicians.org
SUMMARY:Just Friends/Juneteenth
DESCRIPTION:A free performance on Juneteenth by the R&B band Just Friends\, sponsored by the Music Performance Trust Fund.
URL:https://grandrapidsmusicians.org/event/just-friends-juneteenth/
LOCATION:Hero’s Corner Grand Rapids\, 4809 Eastern Avenue SE\, Grand Rapids\, Michigan\, 49508\, United States
ORGANIZER;CN="Hero's Corner Grand Rapids":MAILTO:connect@heroscornergrandrapids.org
END:VEVENT
BEGIN:VEVENT
DTSTART;TZID=UTC:20250619T180000
DTEND;TZID=UTC:20250619T200000
DTSTAMP:20260422T080412
CREATED:20250529T213234Z
LAST-MODIFIED:20250529T213244Z
UID:849-1750356000-1750363200@grandrapidsmusicians.org
SUMMARY:Just Us Band/Juneteenth
DESCRIPTION:A free performance on Juneteenth by Just Us Band\, sponsored by the Music Performance Trust Fund.
URL:https://grandrapidsmusicians.org/event/just-us-band-juneteenth/
LOCATION:MVillage\, 1865 Eastern Avenue SE\, Grand Rapids\, Michigan\, 49507\, United States
ORGANIZER;CN="MVillage LLC":MAILTO:messiah@messiahmissionarygr.org
END:VEVENT
BEGIN:VEVENT
DTSTART;TZID=UTC:20250619T190000
DTEND;TZID=UTC:20250619T210000
DTSTAMP:20260422T080412
CREATED:20250611T222525Z
LAST-MODIFIED:20250611T222534Z
UID:865-1750359600-1750366800@grandrapidsmusicians.org
SUMMARY:Krystal Kleer/Juneteenth
DESCRIPTION:A free performance on Juneteenth by the band Krystal Kleer\, sponsored by the Music Performance Trust Fund.
URL:https://grandrapidsmusicians.org/event/krystal-kleer-juneteenth-2/
LOCATION:St Luke’s Lutheran Church\, 3215 Four Mile Road\, Grand Rapids\, Michigan\, 49525\, United States
ORGANIZER;CN="St Luke's Lutheran Church":MAILTO:office@saintlukeschurch.org
END:VEVENT
END:VCALENDAR